BEGIN:VCALENDAR
VERSION:2.0
PRODID:-//The Brixworth Centre - ECPv6.15.20//NONSGML v1.0//EN
CALSCALE:GREGORIAN
METHOD:PUBLISH
X-WR-CALNAME:The Brixworth Centre
X-ORIGINAL-URL:https://www.brixworthcentre.org.uk
X-WR-CALDESC:Events for The Brixworth Centre
REFRESH-INTERVAL;VALUE=DURATION:PT1H
X-Robots-Tag:noindex
X-PUBLISHED-TTL:PT1H
BEGIN:VTIMEZONE
TZID:Europe/London
BEGIN:DAYLIGHT
TZOFFSETFROM:+0000
TZOFFSETTO:+0100
TZNAME:BST
DTSTART:20250330T010000
END:DAYLIGHT
BEGIN:STANDARD
TZOFFSETFROM:+0100
TZOFFSETTO:+0000
TZNAME:GMT
DTSTART:20251026T010000
END:STANDARD
BEGIN:DAYLIGHT
TZOFFSETFROM:+0000
TZOFFSETTO:+0100
TZNAME:BST
DTSTART:20260329T010000
END:DAYLIGHT
BEGIN:STANDARD
TZOFFSETFROM:+0100
TZOFFSETTO:+0000
TZNAME:GMT
DTSTART:20261025T010000
END:STANDARD
BEGIN:DAYLIGHT
TZOFFSETFROM:+0000
TZOFFSETTO:+0100
TZNAME:BST
DTSTART:20270328T010000
END:DAYLIGHT
BEGIN:STANDARD
TZOFFSETFROM:+0100
TZOFFSETTO:+0000
TZNAME:GMT
DTSTART:20271031T010000
END:STANDARD
END:VTIMEZONE
BEGIN:VEVENT
DTSTART;TZID=Europe/London:20260420T074500
DTEND;TZID=Europe/London:20260420T174500
DTSTAMP:20260420T110815
CREATED:20250531T135233Z
LAST-MODIFIED:20250531T135950Z
UID:10006025-1776671100-1776707100@www.brixworthcentre.org.uk
SUMMARY:Pre-School
DESCRIPTION:
URL:https://www.brixworthcentre.org.uk/event/pre-school-12/2026-04-20/
CATEGORIES:Pre-School
END:VEVENT
BEGIN:VEVENT
DTSTART;TZID=Europe/London:20260420T181500
DTEND;TZID=Europe/London:20260420T194500
DTSTAMP:20260420T110815
CREATED:20250531T132355Z
LAST-MODIFIED:20250531T133919Z
UID:10005815-1776708900-1776714300@www.brixworthcentre.org.uk
SUMMARY:Scouts
DESCRIPTION:
URL:https://www.brixworthcentre.org.uk/event/scouts-2/2026-04-20/
CATEGORIES:Scouts
END:VEVENT
END:VCALENDAR