BEGIN:VCALENDAR
VERSION:2.0
PRODID:-//The Brixworth Centre - ECPv6.15.20//NONSGML v1.0//EN
CALSCALE:GREGORIAN
METHOD:PUBLISH
X-ORIGINAL-URL:https://www.brixworthcentre.org.uk
X-WR-CALDESC:Events for The Brixworth Centre
REFRESH-INTERVAL;VALUE=DURATION:PT1H
X-Robots-Tag:noindex
X-PUBLISHED-TTL:PT1H
BEGIN:VTIMEZONE
TZID:Europe/London
BEGIN:DAYLIGHT
TZOFFSETFROM:+0000
TZOFFSETTO:+0100
TZNAME:BST
DTSTART:20250330T010000
END:DAYLIGHT
BEGIN:STANDARD
TZOFFSETFROM:+0100
TZOFFSETTO:+0000
TZNAME:GMT
DTSTART:20251026T010000
END:STANDARD
BEGIN:DAYLIGHT
TZOFFSETFROM:+0000
TZOFFSETTO:+0100
TZNAME:BST
DTSTART:20260329T010000
END:DAYLIGHT
BEGIN:STANDARD
TZOFFSETFROM:+0100
TZOFFSETTO:+0000
TZNAME:GMT
DTSTART:20261025T010000
END:STANDARD
BEGIN:DAYLIGHT
TZOFFSETFROM:+0000
TZOFFSETTO:+0100
TZNAME:BST
DTSTART:20270328T010000
END:DAYLIGHT
BEGIN:STANDARD
TZOFFSETFROM:+0100
TZOFFSETTO:+0000
TZNAME:GMT
DTSTART:20271031T010000
END:STANDARD
END:VTIMEZONE
BEGIN:VEVENT
DTSTART;TZID=Europe/London:20260421T074500
DTEND;TZID=Europe/London:20260421T174500
DTSTAMP:20260421T130542
CREATED:20250531T135233Z
LAST-MODIFIED:20250531T135950Z
UID:10006026-1776757500-1776793500@www.brixworthcentre.org.uk
SUMMARY:Pre-School
DESCRIPTION:
URL:https://www.brixworthcentre.org.uk/event/pre-school-12/2026-04-21/
CATEGORIES:Pre-School
END:VEVENT
BEGIN:VEVENT
DTSTART;TZID=Europe/London:20260422T074500
DTEND;TZID=Europe/London:20260422T174500
DTSTAMP:20260421T130542
CREATED:20250531T135233Z
LAST-MODIFIED:20250531T135950Z
UID:10006027-1776843900-1776879900@www.brixworthcentre.org.uk
SUMMARY:Pre-School
DESCRIPTION:
URL:https://www.brixworthcentre.org.uk/event/pre-school-12/2026-04-22/
CATEGORIES:Pre-School
END:VEVENT
BEGIN:VEVENT
DTSTART;TZID=Europe/London:20260423T074500
DTEND;TZID=Europe/London:20260423T174500
DTSTAMP:20260421T130542
CREATED:20250531T135233Z
LAST-MODIFIED:20250531T135950Z
UID:10006028-1776930300-1776966300@www.brixworthcentre.org.uk
SUMMARY:Pre-School
DESCRIPTION:
URL:https://www.brixworthcentre.org.uk/event/pre-school-12/2026-04-23/
CATEGORIES:Pre-School
END:VEVENT
BEGIN:VEVENT
DTSTART;TZID=Europe/London:20260424T084500
DTEND;TZID=Europe/London:20260424T123000
DTSTAMP:20260421T130542
CREATED:20250531T135335Z
LAST-MODIFIED:20250531T135525Z
UID:10006082-1777020300-1777033800@www.brixworthcentre.org.uk
SUMMARY:Pre-School
DESCRIPTION:
URL:https://www.brixworthcentre.org.uk/event/pre-school-14/2026-04-24/
CATEGORIES:Pre-School
END:VEVENT
BEGIN:VEVENT
DTSTART;TZID=Europe/London:20260427T074500
DTEND;TZID=Europe/London:20260427T174500
DTSTAMP:20260421T130542
CREATED:20250531T135233Z
LAST-MODIFIED:20250531T135950Z
UID:10006029-1777275900-1777311900@www.brixworthcentre.org.uk
SUMMARY:Pre-School
DESCRIPTION:
URL:https://www.brixworthcentre.org.uk/event/pre-school-12/2026-04-27/
CATEGORIES:Pre-School
END:VEVENT
BEGIN:VEVENT
DTSTART;TZID=Europe/London:20260428T074500
DTEND;TZID=Europe/London:20260428T174500
DTSTAMP:20260421T130542
CREATED:20250531T135233Z
LAST-MODIFIED:20250531T135950Z
UID:10006030-1777362300-1777398300@www.brixworthcentre.org.uk
SUMMARY:Pre-School
DESCRIPTION:
URL:https://www.brixworthcentre.org.uk/event/pre-school-12/2026-04-28/
CATEGORIES:Pre-School
END:VEVENT
BEGIN:VEVENT
DTSTART;TZID=Europe/London:20260429T074500
DTEND;TZID=Europe/London:20260429T174500
DTSTAMP:20260421T130542
CREATED:20250531T135233Z
LAST-MODIFIED:20250531T135950Z
UID:10006031-1777448700-1777484700@www.brixworthcentre.org.uk
SUMMARY:Pre-School
DESCRIPTION:
URL:https://www.brixworthcentre.org.uk/event/pre-school-12/2026-04-29/
CATEGORIES:Pre-School
END:VEVENT
BEGIN:VEVENT
DTSTART;TZID=Europe/London:20260430T074500
DTEND;TZID=Europe/London:20260430T174500
DTSTAMP:20260421T130542
CREATED:20250531T135233Z
LAST-MODIFIED:20250531T135950Z
UID:10006032-1777535100-1777571100@www.brixworthcentre.org.uk
SUMMARY:Pre-School
DESCRIPTION:
URL:https://www.brixworthcentre.org.uk/event/pre-school-12/2026-04-30/
CATEGORIES:Pre-School
END:VEVENT
END:VCALENDAR