BEGIN:VCALENDAR
VERSION:2.0
PRODID:-//The Brixworth Centre - ECPv6.15.20//NONSGML v1.0//EN
CALSCALE:GREGORIAN
METHOD:PUBLISH
X-WR-CALNAME:The Brixworth Centre
X-ORIGINAL-URL:https://www.brixworthcentre.org.uk
X-WR-CALDESC:Events for The Brixworth Centre
REFRESH-INTERVAL;VALUE=DURATION:PT1H
X-Robots-Tag:noindex
X-PUBLISHED-TTL:PT1H
BEGIN:VTIMEZONE
TZID:Europe/London
BEGIN:DAYLIGHT
TZOFFSETFROM:+0000
TZOFFSETTO:+0100
TZNAME:BST
DTSTART:20240331T010000
END:DAYLIGHT
BEGIN:STANDARD
TZOFFSETFROM:+0100
TZOFFSETTO:+0000
TZNAME:GMT
DTSTART:20241027T010000
END:STANDARD
BEGIN:DAYLIGHT
TZOFFSETFROM:+0000
TZOFFSETTO:+0100
TZNAME:BST
DTSTART:20250330T010000
END:DAYLIGHT
BEGIN:STANDARD
TZOFFSETFROM:+0100
TZOFFSETTO:+0000
TZNAME:GMT
DTSTART:20251026T010000
END:STANDARD
BEGIN:DAYLIGHT
TZOFFSETFROM:+0000
TZOFFSETTO:+0100
TZNAME:BST
DTSTART:20260329T010000
END:DAYLIGHT
BEGIN:STANDARD
TZOFFSETFROM:+0100
TZOFFSETTO:+0000
TZNAME:GMT
DTSTART:20261025T010000
END:STANDARD
END:VTIMEZONE
BEGIN:VEVENT
DTSTART;TZID=Europe/London:20251107T143000
DTEND;TZID=Europe/London:20251107T163000
DTSTAMP:20260421T203536
CREATED:20250531T131740Z
LAST-MODIFIED:20250831T154013Z
UID:10005623-1762525800-1762533000@www.brixworthcentre.org.uk
SUMMARY:Short Mat Bowls
DESCRIPTION:
URL:https://www.brixworthcentre.org.uk/event/short-mat-bowls/2025-11-07/
CATEGORIES:Short Mat Bowls
END:VEVENT
BEGIN:VEVENT
DTSTART;TZID=Europe/London:20251107T190000
DTEND;TZID=Europe/London:20251107T210000
DTSTAMP:20260421T203536
CREATED:20250531T131833Z
LAST-MODIFIED:20250807T181036Z
UID:10005675-1762542000-1762549200@www.brixworthcentre.org.uk
SUMMARY:Short Mat Bowls
DESCRIPTION:
URL:https://www.brixworthcentre.org.uk/event/short-mat-bowls-2/2025-11-07/
CATEGORIES:Short Mat Bowls
END:VEVENT
BEGIN:VEVENT
DTSTART;TZID=Europe/London:20251114T143000
DTEND;TZID=Europe/London:20251114T163000
DTSTAMP:20260421T203536
CREATED:20250531T131740Z
LAST-MODIFIED:20250831T154013Z
UID:10005624-1763130600-1763137800@www.brixworthcentre.org.uk
SUMMARY:Short Mat Bowls
DESCRIPTION:
URL:https://www.brixworthcentre.org.uk/event/short-mat-bowls/2025-11-14/
CATEGORIES:Short Mat Bowls
END:VEVENT
BEGIN:VEVENT
DTSTART;TZID=Europe/London:20251114T190000
DTEND;TZID=Europe/London:20251114T210000
DTSTAMP:20260421T203536
CREATED:20250531T131833Z
LAST-MODIFIED:20250807T181036Z
UID:10005676-1763146800-1763154000@www.brixworthcentre.org.uk
SUMMARY:Short Mat Bowls
DESCRIPTION:
URL:https://www.brixworthcentre.org.uk/event/short-mat-bowls-2/2025-11-14/
CATEGORIES:Short Mat Bowls
END:VEVENT
BEGIN:VEVENT
DTSTART;TZID=Europe/London:20251121T143000
DTEND;TZID=Europe/London:20251121T163000
DTSTAMP:20260421T203536
CREATED:20250531T131740Z
LAST-MODIFIED:20250831T154013Z
UID:10005625-1763735400-1763742600@www.brixworthcentre.org.uk
SUMMARY:Short Mat Bowls
DESCRIPTION:
URL:https://www.brixworthcentre.org.uk/event/short-mat-bowls/2025-11-21/
CATEGORIES:Short Mat Bowls
END:VEVENT
BEGIN:VEVENT
DTSTART;TZID=Europe/London:20251121T190000
DTEND;TZID=Europe/London:20251121T210000
DTSTAMP:20260421T203536
CREATED:20250531T131833Z
LAST-MODIFIED:20250807T181036Z
UID:10005677-1763751600-1763758800@www.brixworthcentre.org.uk
SUMMARY:Short Mat Bowls
DESCRIPTION:
URL:https://www.brixworthcentre.org.uk/event/short-mat-bowls-2/2025-11-21/
CATEGORIES:Short Mat Bowls
END:VEVENT
BEGIN:VEVENT
DTSTART;TZID=Europe/London:20251128T143000
DTEND;TZID=Europe/London:20251128T163000
DTSTAMP:20260421T203536
CREATED:20250531T131740Z
LAST-MODIFIED:20250831T154013Z
UID:10005626-1764340200-1764347400@www.brixworthcentre.org.uk
SUMMARY:Short Mat Bowls
DESCRIPTION:
URL:https://www.brixworthcentre.org.uk/event/short-mat-bowls/2025-11-28/
CATEGORIES:Short Mat Bowls
END:VEVENT
BEGIN:VEVENT
DTSTART;TZID=Europe/London:20251128T190000
DTEND;TZID=Europe/London:20251128T210000
DTSTAMP:20260421T203536
CREATED:20250531T131833Z
LAST-MODIFIED:20250807T181036Z
UID:10005678-1764356400-1764363600@www.brixworthcentre.org.uk
SUMMARY:Short Mat Bowls
DESCRIPTION:
URL:https://www.brixworthcentre.org.uk/event/short-mat-bowls-2/2025-11-28/
CATEGORIES:Short Mat Bowls
END:VEVENT
END:VCALENDAR