BEGIN:VCALENDAR
VERSION:2.0
PRODID:-//The Brixworth Centre - ECPv6.15.20//NONSGML v1.0//EN
CALSCALE:GREGORIAN
METHOD:PUBLISH
X-ORIGINAL-URL:https://www.brixworthcentre.org.uk
X-WR-CALDESC:Events for The Brixworth Centre
REFRESH-INTERVAL;VALUE=DURATION:PT1H
X-Robots-Tag:noindex
X-PUBLISHED-TTL:PT1H
BEGIN:VTIMEZONE
TZID:Europe/London
BEGIN:DAYLIGHT
TZOFFSETFROM:+0000
TZOFFSETTO:+0100
TZNAME:BST
DTSTART:20250330T010000
END:DAYLIGHT
BEGIN:STANDARD
TZOFFSETFROM:+0100
TZOFFSETTO:+0000
TZNAME:GMT
DTSTART:20251026T010000
END:STANDARD
BEGIN:DAYLIGHT
TZOFFSETFROM:+0000
TZOFFSETTO:+0100
TZNAME:BST
DTSTART:20260329T010000
END:DAYLIGHT
BEGIN:STANDARD
TZOFFSETFROM:+0100
TZOFFSETTO:+0000
TZNAME:GMT
DTSTART:20261025T010000
END:STANDARD
BEGIN:DAYLIGHT
TZOFFSETFROM:+0000
TZOFFSETTO:+0100
TZNAME:BST
DTSTART:20270328T010000
END:DAYLIGHT
BEGIN:STANDARD
TZOFFSETFROM:+0100
TZOFFSETTO:+0000
TZNAME:GMT
DTSTART:20271031T010000
END:STANDARD
END:VTIMEZONE
BEGIN:VEVENT
DTSTART;TZID=Europe/London:20260501T143000
DTEND;TZID=Europe/London:20260501T163000
DTSTAMP:20260421T141351
CREATED:20250531T131740Z
LAST-MODIFIED:20250831T154013Z
UID:10005648-1777645800-1777653000@www.brixworthcentre.org.uk
SUMMARY:Short Mat Bowls
DESCRIPTION:
URL:https://www.brixworthcentre.org.uk/event/short-mat-bowls/2026-05-01/
CATEGORIES:Short Mat Bowls
END:VEVENT
BEGIN:VEVENT
DTSTART;TZID=Europe/London:20260501T190000
DTEND;TZID=Europe/London:20260501T210000
DTSTAMP:20260421T141351
CREATED:20250531T131833Z
LAST-MODIFIED:20250807T181036Z
UID:10005700-1777662000-1777669200@www.brixworthcentre.org.uk
SUMMARY:Short Mat Bowls
DESCRIPTION:
URL:https://www.brixworthcentre.org.uk/event/short-mat-bowls-2/2026-05-01/
CATEGORIES:Short Mat Bowls
END:VEVENT
BEGIN:VEVENT
DTSTART;TZID=Europe/London:20260508T143000
DTEND;TZID=Europe/London:20260508T163000
DTSTAMP:20260421T141351
CREATED:20250531T131740Z
LAST-MODIFIED:20250831T154013Z
UID:10005649-1778250600-1778257800@www.brixworthcentre.org.uk
SUMMARY:Short Mat Bowls
DESCRIPTION:
URL:https://www.brixworthcentre.org.uk/event/short-mat-bowls/2026-05-08/
CATEGORIES:Short Mat Bowls
END:VEVENT
BEGIN:VEVENT
DTSTART;TZID=Europe/London:20260508T190000
DTEND;TZID=Europe/London:20260508T210000
DTSTAMP:20260421T141351
CREATED:20250531T131833Z
LAST-MODIFIED:20250807T181036Z
UID:10005701-1778266800-1778274000@www.brixworthcentre.org.uk
SUMMARY:Short Mat Bowls
DESCRIPTION:
URL:https://www.brixworthcentre.org.uk/event/short-mat-bowls-2/2026-05-08/
CATEGORIES:Short Mat Bowls
END:VEVENT
BEGIN:VEVENT
DTSTART;TZID=Europe/London:20260515T143000
DTEND;TZID=Europe/London:20260515T163000
DTSTAMP:20260421T141351
CREATED:20250531T131740Z
LAST-MODIFIED:20250831T154013Z
UID:10005650-1778855400-1778862600@www.brixworthcentre.org.uk
SUMMARY:Short Mat Bowls
DESCRIPTION:
URL:https://www.brixworthcentre.org.uk/event/short-mat-bowls/2026-05-15/
CATEGORIES:Short Mat Bowls
END:VEVENT
BEGIN:VEVENT
DTSTART;TZID=Europe/London:20260515T190000
DTEND;TZID=Europe/London:20260515T210000
DTSTAMP:20260421T141351
CREATED:20250531T131833Z
LAST-MODIFIED:20250807T181036Z
UID:10005702-1778871600-1778878800@www.brixworthcentre.org.uk
SUMMARY:Short Mat Bowls
DESCRIPTION:
URL:https://www.brixworthcentre.org.uk/event/short-mat-bowls-2/2026-05-15/
CATEGORIES:Short Mat Bowls
END:VEVENT
BEGIN:VEVENT
DTSTART;TZID=Europe/London:20260522T143000
DTEND;TZID=Europe/London:20260522T163000
DTSTAMP:20260421T141351
CREATED:20250531T131740Z
LAST-MODIFIED:20250831T154013Z
UID:10005651-1779460200-1779467400@www.brixworthcentre.org.uk
SUMMARY:Short Mat Bowls
DESCRIPTION:
URL:https://www.brixworthcentre.org.uk/event/short-mat-bowls/2026-05-22/
CATEGORIES:Short Mat Bowls
END:VEVENT
BEGIN:VEVENT
DTSTART;TZID=Europe/London:20260522T190000
DTEND;TZID=Europe/London:20260522T210000
DTSTAMP:20260421T141351
CREATED:20250531T131833Z
LAST-MODIFIED:20250807T181036Z
UID:10005703-1779476400-1779483600@www.brixworthcentre.org.uk
SUMMARY:Short Mat Bowls
DESCRIPTION:
URL:https://www.brixworthcentre.org.uk/event/short-mat-bowls-2/2026-05-22/
CATEGORIES:Short Mat Bowls
END:VEVENT
BEGIN:VEVENT
DTSTART;TZID=Europe/London:20260529T143000
DTEND;TZID=Europe/London:20260529T163000
DTSTAMP:20260421T141351
CREATED:20250531T131740Z
LAST-MODIFIED:20250831T154013Z
UID:10005652-1780065000-1780072200@www.brixworthcentre.org.uk
SUMMARY:Short Mat Bowls
DESCRIPTION:
URL:https://www.brixworthcentre.org.uk/event/short-mat-bowls/2026-05-29/
CATEGORIES:Short Mat Bowls
END:VEVENT
BEGIN:VEVENT
DTSTART;TZID=Europe/London:20260529T190000
DTEND;TZID=Europe/London:20260529T210000
DTSTAMP:20260421T141351
CREATED:20250531T131833Z
LAST-MODIFIED:20250807T181036Z
UID:10005704-1780081200-1780088400@www.brixworthcentre.org.uk
SUMMARY:Short Mat Bowls
DESCRIPTION:
URL:https://www.brixworthcentre.org.uk/event/short-mat-bowls-2/2026-05-29/
CATEGORIES:Short Mat Bowls
END:VEVENT
END:VCALENDAR