BEGIN:VCALENDAR
VERSION:2.0
PRODID:-//The Brixworth Centre - ECPv6.15.20//NONSGML v1.0//EN
CALSCALE:GREGORIAN
METHOD:PUBLISH
X-ORIGINAL-URL:https://www.brixworthcentre.org.uk
X-WR-CALDESC:Events for The Brixworth Centre
REFRESH-INTERVAL;VALUE=DURATION:PT1H
X-Robots-Tag:noindex
X-PUBLISHED-TTL:PT1H
BEGIN:VTIMEZONE
TZID:Europe/London
BEGIN:DAYLIGHT
TZOFFSETFROM:+0000
TZOFFSETTO:+0100
TZNAME:BST
DTSTART:20240331T010000
END:DAYLIGHT
BEGIN:STANDARD
TZOFFSETFROM:+0100
TZOFFSETTO:+0000
TZNAME:GMT
DTSTART:20241027T010000
END:STANDARD
BEGIN:DAYLIGHT
TZOFFSETFROM:+0000
TZOFFSETTO:+0100
TZNAME:BST
DTSTART:20250330T010000
END:DAYLIGHT
BEGIN:STANDARD
TZOFFSETFROM:+0100
TZOFFSETTO:+0000
TZNAME:GMT
DTSTART:20251026T010000
END:STANDARD
BEGIN:DAYLIGHT
TZOFFSETFROM:+0000
TZOFFSETTO:+0100
TZNAME:BST
DTSTART:20260329T010000
END:DAYLIGHT
BEGIN:STANDARD
TZOFFSETFROM:+0100
TZOFFSETTO:+0000
TZNAME:GMT
DTSTART:20261025T010000
END:STANDARD
END:VTIMEZONE
BEGIN:VEVENT
DTSTART;TZID=Europe/London:20251201T074500
DTEND;TZID=Europe/London:20251201T174500
DTSTAMP:20260421T210944
CREATED:20250531T135233Z
LAST-MODIFIED:20250531T135950Z
UID:10005945-1764575100-1764611100@www.brixworthcentre.org.uk
SUMMARY:Pre-School
DESCRIPTION:
URL:https://www.brixworthcentre.org.uk/event/pre-school-12/2025-12-01/
CATEGORIES:Pre-School
END:VEVENT
BEGIN:VEVENT
DTSTART;TZID=Europe/London:20251201T181500
DTEND;TZID=Europe/London:20251201T194500
DTSTAMP:20260421T210944
CREATED:20250531T132355Z
LAST-MODIFIED:20250531T133919Z
UID:10005795-1764612900-1764618300@www.brixworthcentre.org.uk
SUMMARY:Scouts
DESCRIPTION:
URL:https://www.brixworthcentre.org.uk/event/scouts-2/2025-12-01/
CATEGORIES:Scouts
END:VEVENT
BEGIN:VEVENT
DTSTART;TZID=Europe/London:20251202T074500
DTEND;TZID=Europe/London:20251202T174500
DTSTAMP:20260421T210944
CREATED:20250531T135233Z
LAST-MODIFIED:20250531T135950Z
UID:10005946-1764661500-1764697500@www.brixworthcentre.org.uk
SUMMARY:Pre-School
DESCRIPTION:
URL:https://www.brixworthcentre.org.uk/event/pre-school-12/2025-12-02/
CATEGORIES:Pre-School
END:VEVENT
BEGIN:VEVENT
DTSTART;TZID=Europe/London:20251202T190000
DTEND;TZID=Europe/London:20251202T200000
DTSTAMP:20260421T210944
CREATED:20250531T131232Z
LAST-MODIFIED:20250623T220620Z
UID:10005546-1764702000-1764705600@www.brixworthcentre.org.uk
SUMMARY:Tai-Chi
DESCRIPTION:
URL:https://www.brixworthcentre.org.uk/event/tai-chi-2/2025-12-02/
CATEGORIES:Tai Chi
END:VEVENT
BEGIN:VEVENT
DTSTART;TZID=Europe/London:20251203T074500
DTEND;TZID=Europe/London:20251203T174500
DTSTAMP:20260421T210944
CREATED:20250531T135233Z
LAST-MODIFIED:20250531T135950Z
UID:10005947-1764747900-1764783900@www.brixworthcentre.org.uk
SUMMARY:Pre-School
DESCRIPTION:
URL:https://www.brixworthcentre.org.uk/event/pre-school-12/2025-12-03/
CATEGORIES:Pre-School
END:VEVENT
BEGIN:VEVENT
DTSTART;TZID=Europe/London:20251203T193000
DTEND;TZID=Europe/London:20251203T210000
DTSTAMP:20260421T210944
CREATED:20250531T132127Z
LAST-MODIFIED:20250531T132127Z
UID:10005711-1764790200-1764795600@www.brixworthcentre.org.uk
SUMMARY:Nene Consort
DESCRIPTION:
URL:https://www.brixworthcentre.org.uk/event/nene-consort/2025-12-03/
CATEGORIES:Nene Consort
END:VEVENT
BEGIN:VEVENT
DTSTART;TZID=Europe/London:20251204T074500
DTEND;TZID=Europe/London:20251204T174500
DTSTAMP:20260421T210944
CREATED:20250531T135233Z
LAST-MODIFIED:20250531T135950Z
UID:10005948-1764834300-1764870300@www.brixworthcentre.org.uk
SUMMARY:Pre-School
DESCRIPTION:
URL:https://www.brixworthcentre.org.uk/event/pre-school-12/2025-12-04/
CATEGORIES:Pre-School
END:VEVENT
BEGIN:VEVENT
DTSTART;TZID=Europe/London:20251204T180000
DTEND;TZID=Europe/London:20251204T203000
DTSTAMP:20260421T210944
CREATED:20250531T132248Z
LAST-MODIFIED:20250831T153431Z
UID:10005743-1764871200-1764880200@www.brixworthcentre.org.uk
SUMMARY:Cubs & Beavers
DESCRIPTION:
URL:https://www.brixworthcentre.org.uk/event/cubs-beavers-2/2025-12-04/
CATEGORIES:Cubs
END:VEVENT
BEGIN:VEVENT
DTSTART;TZID=Europe/London:20251205T084500
DTEND;TZID=Europe/London:20251205T123000
DTSTAMP:20260421T210944
CREATED:20250531T135335Z
LAST-MODIFIED:20250531T135525Z
UID:10006062-1764924300-1764937800@www.brixworthcentre.org.uk
SUMMARY:Pre-School
DESCRIPTION:
URL:https://www.brixworthcentre.org.uk/event/pre-school-14/2025-12-05/
CATEGORIES:Pre-School
END:VEVENT
BEGIN:VEVENT
DTSTART;TZID=Europe/London:20251205T143000
DTEND;TZID=Europe/London:20251205T163000
DTSTAMP:20260421T210944
CREATED:20250531T131740Z
LAST-MODIFIED:20250831T154013Z
UID:10005627-1764945000-1764952200@www.brixworthcentre.org.uk
SUMMARY:Short Mat Bowls
DESCRIPTION:
URL:https://www.brixworthcentre.org.uk/event/short-mat-bowls/2025-12-05/
CATEGORIES:Short Mat Bowls
END:VEVENT
BEGIN:VEVENT
DTSTART;TZID=Europe/London:20251205T190000
DTEND;TZID=Europe/London:20251205T210000
DTSTAMP:20260421T210944
CREATED:20250531T131833Z
LAST-MODIFIED:20250807T181036Z
UID:10005679-1764961200-1764968400@www.brixworthcentre.org.uk
SUMMARY:Short Mat Bowls
DESCRIPTION:
URL:https://www.brixworthcentre.org.uk/event/short-mat-bowls-2/2025-12-05/
CATEGORIES:Short Mat Bowls
END:VEVENT
BEGIN:VEVENT
DTSTART;TZID=Europe/London:20251207T100000
DTEND;TZID=Europe/London:20251207T110000
DTSTAMP:20260421T210944
CREATED:20251006T210213Z
LAST-MODIFIED:20251006T210213Z
UID:10006107-1765101600-1765105200@www.brixworthcentre.org.uk
SUMMARY:Dance Trio
DESCRIPTION:
URL:https://www.brixworthcentre.org.uk/event/dance-trio/2025-12-07/
CATEGORIES:Dance Trio
END:VEVENT
BEGIN:VEVENT
DTSTART;TZID=Europe/London:20251208T074500
DTEND;TZID=Europe/London:20251208T174500
DTSTAMP:20260421T210944
CREATED:20250531T135233Z
LAST-MODIFIED:20250531T135950Z
UID:10005949-1765179900-1765215900@www.brixworthcentre.org.uk
SUMMARY:Pre-School
DESCRIPTION:
URL:https://www.brixworthcentre.org.uk/event/pre-school-12/2025-12-08/
CATEGORIES:Pre-School
END:VEVENT
BEGIN:VEVENT
DTSTART;TZID=Europe/London:20251208T181500
DTEND;TZID=Europe/London:20251208T194500
DTSTAMP:20260421T210944
CREATED:20250531T132355Z
LAST-MODIFIED:20250531T133919Z
UID:10005796-1765217700-1765223100@www.brixworthcentre.org.uk
SUMMARY:Scouts
DESCRIPTION:
URL:https://www.brixworthcentre.org.uk/event/scouts-2/2025-12-08/
CATEGORIES:Scouts
END:VEVENT
BEGIN:VEVENT
DTSTART;TZID=Europe/London:20251209T074500
DTEND;TZID=Europe/London:20251209T174500
DTSTAMP:20260421T210944
CREATED:20250531T135233Z
LAST-MODIFIED:20250531T135950Z
UID:10005950-1765266300-1765302300@www.brixworthcentre.org.uk
SUMMARY:Pre-School
DESCRIPTION:
URL:https://www.brixworthcentre.org.uk/event/pre-school-12/2025-12-09/
CATEGORIES:Pre-School
END:VEVENT
BEGIN:VEVENT
DTSTART;TZID=Europe/London:20251209T190000
DTEND;TZID=Europe/London:20251209T200000
DTSTAMP:20260421T210944
CREATED:20250531T131232Z
LAST-MODIFIED:20250623T220620Z
UID:10005547-1765306800-1765310400@www.brixworthcentre.org.uk
SUMMARY:Tai-Chi
DESCRIPTION:
URL:https://www.brixworthcentre.org.uk/event/tai-chi-2/2025-12-09/
CATEGORIES:Tai Chi
END:VEVENT
BEGIN:VEVENT
DTSTART;TZID=Europe/London:20251210T074500
DTEND;TZID=Europe/London:20251210T174500
DTSTAMP:20260421T210944
CREATED:20250531T135233Z
LAST-MODIFIED:20250531T135950Z
UID:10005951-1765352700-1765388700@www.brixworthcentre.org.uk
SUMMARY:Pre-School
DESCRIPTION:
URL:https://www.brixworthcentre.org.uk/event/pre-school-12/2025-12-10/
CATEGORIES:Pre-School
END:VEVENT
BEGIN:VEVENT
DTSTART;TZID=Europe/London:20251210T183000
DTEND;TZID=Europe/London:20251210T213000
DTSTAMP:20260421T210944
CREATED:20250923T155607Z
LAST-MODIFIED:20250923T155727Z
UID:10006099-1765391400-1765402200@www.brixworthcentre.org.uk
SUMMARY:Pre School
DESCRIPTION:
URL:https://www.brixworthcentre.org.uk/event/pre-school-2/
CATEGORIES:Pre-School
END:VEVENT
BEGIN:VEVENT
DTSTART;TZID=Europe/London:20251211T074500
DTEND;TZID=Europe/London:20251211T174500
DTSTAMP:20260421T210944
CREATED:20250531T135233Z
LAST-MODIFIED:20250531T135950Z
UID:10005952-1765439100-1765475100@www.brixworthcentre.org.uk
SUMMARY:Pre-School
DESCRIPTION:
URL:https://www.brixworthcentre.org.uk/event/pre-school-12/2025-12-11/
CATEGORIES:Pre-School
END:VEVENT
BEGIN:VEVENT
DTSTART;TZID=Europe/London:20251211T180000
DTEND;TZID=Europe/London:20251211T203000
DTSTAMP:20260421T210944
CREATED:20250531T132248Z
LAST-MODIFIED:20250831T153431Z
UID:10005744-1765476000-1765485000@www.brixworthcentre.org.uk
SUMMARY:Cubs & Beavers
DESCRIPTION:
URL:https://www.brixworthcentre.org.uk/event/cubs-beavers-2/2025-12-11/
CATEGORIES:Cubs
END:VEVENT
BEGIN:VEVENT
DTSTART;TZID=Europe/London:20251212T084500
DTEND;TZID=Europe/London:20251212T123000
DTSTAMP:20260421T210944
CREATED:20250531T135335Z
LAST-MODIFIED:20250531T135525Z
UID:10006063-1765529100-1765542600@www.brixworthcentre.org.uk
SUMMARY:Pre-School
DESCRIPTION:
URL:https://www.brixworthcentre.org.uk/event/pre-school-14/2025-12-12/
CATEGORIES:Pre-School
END:VEVENT
BEGIN:VEVENT
DTSTART;TZID=Europe/London:20251212T143000
DTEND;TZID=Europe/London:20251212T163000
DTSTAMP:20260421T210944
CREATED:20250531T131740Z
LAST-MODIFIED:20250831T154013Z
UID:10005628-1765549800-1765557000@www.brixworthcentre.org.uk
SUMMARY:Short Mat Bowls
DESCRIPTION:
URL:https://www.brixworthcentre.org.uk/event/short-mat-bowls/2025-12-12/
CATEGORIES:Short Mat Bowls
END:VEVENT
BEGIN:VEVENT
DTSTART;TZID=Europe/London:20251212T190000
DTEND;TZID=Europe/London:20251212T210000
DTSTAMP:20260421T210944
CREATED:20250531T131833Z
LAST-MODIFIED:20250807T181036Z
UID:10005680-1765566000-1765573200@www.brixworthcentre.org.uk
SUMMARY:Short Mat Bowls
DESCRIPTION:
URL:https://www.brixworthcentre.org.uk/event/short-mat-bowls-2/2025-12-12/
CATEGORIES:Short Mat Bowls
END:VEVENT
BEGIN:VEVENT
DTSTART;TZID=Europe/London:20251215T074500
DTEND;TZID=Europe/London:20251215T174500
DTSTAMP:20260421T210944
CREATED:20250531T135233Z
LAST-MODIFIED:20250531T135950Z
UID:10005953-1765784700-1765820700@www.brixworthcentre.org.uk
SUMMARY:Pre-School
DESCRIPTION:
URL:https://www.brixworthcentre.org.uk/event/pre-school-12/2025-12-15/
CATEGORIES:Pre-School
END:VEVENT
BEGIN:VEVENT
DTSTART;TZID=Europe/London:20251215T181500
DTEND;TZID=Europe/London:20251215T194500
DTSTAMP:20260421T210944
CREATED:20250531T132355Z
LAST-MODIFIED:20250531T133919Z
UID:10005797-1765822500-1765827900@www.brixworthcentre.org.uk
SUMMARY:Scouts
DESCRIPTION:
URL:https://www.brixworthcentre.org.uk/event/scouts-2/2025-12-15/
CATEGORIES:Scouts
END:VEVENT
BEGIN:VEVENT
DTSTART;TZID=Europe/London:20251216T074500
DTEND;TZID=Europe/London:20251216T174500
DTSTAMP:20260421T210944
CREATED:20250531T135233Z
LAST-MODIFIED:20250531T135950Z
UID:10005954-1765871100-1765907100@www.brixworthcentre.org.uk
SUMMARY:Pre-School
DESCRIPTION:
URL:https://www.brixworthcentre.org.uk/event/pre-school-12/2025-12-16/
CATEGORIES:Pre-School
END:VEVENT
BEGIN:VEVENT
DTSTART;TZID=Europe/London:20251216T190000
DTEND;TZID=Europe/London:20251216T200000
DTSTAMP:20260421T210944
CREATED:20250531T131232Z
LAST-MODIFIED:20250623T220620Z
UID:10005548-1765911600-1765915200@www.brixworthcentre.org.uk
SUMMARY:Tai-Chi
DESCRIPTION:
URL:https://www.brixworthcentre.org.uk/event/tai-chi-2/2025-12-16/
CATEGORIES:Tai Chi
END:VEVENT
BEGIN:VEVENT
DTSTART;TZID=Europe/London:20251217T074500
DTEND;TZID=Europe/London:20251217T174500
DTSTAMP:20260421T210944
CREATED:20250531T135233Z
LAST-MODIFIED:20250531T135950Z
UID:10005955-1765957500-1765993500@www.brixworthcentre.org.uk
SUMMARY:Pre-School
DESCRIPTION:
URL:https://www.brixworthcentre.org.uk/event/pre-school-12/2025-12-17/
CATEGORIES:Pre-School
END:VEVENT
BEGIN:VEVENT
DTSTART;TZID=Europe/London:20251217T193000
DTEND;TZID=Europe/London:20251217T210000
DTSTAMP:20260421T210944
CREATED:20250531T131535Z
LAST-MODIFIED:20250531T131535Z
UID:10005591-1765999800-1766005200@www.brixworthcentre.org.uk
SUMMARY:Nene Consort
DESCRIPTION:
URL:https://www.brixworthcentre.org.uk/event/nene-consort-2/2025-12-17/
CATEGORIES:Nene Consort
END:VEVENT
BEGIN:VEVENT
DTSTART;TZID=Europe/London:20251218T074500
DTEND;TZID=Europe/London:20251218T174500
DTSTAMP:20260421T210944
CREATED:20250531T135233Z
LAST-MODIFIED:20250531T135950Z
UID:10005956-1766043900-1766079900@www.brixworthcentre.org.uk
SUMMARY:Pre-School
DESCRIPTION:
URL:https://www.brixworthcentre.org.uk/event/pre-school-12/2025-12-18/
CATEGORIES:Pre-School
END:VEVENT
END:VCALENDAR