BEGIN:VCALENDAR
VERSION:2.0
PRODID:-//The Brixworth Centre - ECPv6.15.20//NONSGML v1.0//EN
CALSCALE:GREGORIAN
METHOD:PUBLISH
X-ORIGINAL-URL:https://www.brixworthcentre.org.uk
X-WR-CALDESC:Events for The Brixworth Centre
REFRESH-INTERVAL;VALUE=DURATION:PT1H
X-Robots-Tag:noindex
X-PUBLISHED-TTL:PT1H
BEGIN:VTIMEZONE
TZID:Europe/London
BEGIN:DAYLIGHT
TZOFFSETFROM:+0000
TZOFFSETTO:+0100
TZNAME:BST
DTSTART:20250330T010000
END:DAYLIGHT
BEGIN:STANDARD
TZOFFSETFROM:+0100
TZOFFSETTO:+0000
TZNAME:GMT
DTSTART:20251026T010000
END:STANDARD
BEGIN:DAYLIGHT
TZOFFSETFROM:+0000
TZOFFSETTO:+0100
TZNAME:BST
DTSTART:20260329T010000
END:DAYLIGHT
BEGIN:STANDARD
TZOFFSETFROM:+0100
TZOFFSETTO:+0000
TZNAME:GMT
DTSTART:20261025T010000
END:STANDARD
BEGIN:DAYLIGHT
TZOFFSETFROM:+0000
TZOFFSETTO:+0100
TZNAME:BST
DTSTART:20270328T010000
END:DAYLIGHT
BEGIN:STANDARD
TZOFFSETFROM:+0100
TZOFFSETTO:+0000
TZNAME:GMT
DTSTART:20271031T010000
END:STANDARD
END:VTIMEZONE
BEGIN:VEVENT
DTSTART;TZID=Europe/London:20260102T143000
DTEND;TZID=Europe/London:20260102T163000
DTSTAMP:20260421T194628
CREATED:20250531T131740Z
LAST-MODIFIED:20250831T154013Z
UID:10005631-1767364200-1767371400@www.brixworthcentre.org.uk
SUMMARY:Short Mat Bowls
DESCRIPTION:
URL:https://www.brixworthcentre.org.uk/event/short-mat-bowls/2026-01-02/
CATEGORIES:Short Mat Bowls
END:VEVENT
BEGIN:VEVENT
DTSTART;TZID=Europe/London:20260102T190000
DTEND;TZID=Europe/London:20260102T210000
DTSTAMP:20260421T194628
CREATED:20250531T131833Z
LAST-MODIFIED:20250807T181036Z
UID:10005683-1767380400-1767387600@www.brixworthcentre.org.uk
SUMMARY:Short Mat Bowls
DESCRIPTION:
URL:https://www.brixworthcentre.org.uk/event/short-mat-bowls-2/2026-01-02/
CATEGORIES:Short Mat Bowls
END:VEVENT
BEGIN:VEVENT
DTSTART;TZID=Europe/London:20260106T074500
DTEND;TZID=Europe/London:20260106T174500
DTSTAMP:20260421T194628
CREATED:20250531T135233Z
LAST-MODIFIED:20250531T135950Z
UID:10005966-1767685500-1767721500@www.brixworthcentre.org.uk
SUMMARY:Pre-School
DESCRIPTION:
URL:https://www.brixworthcentre.org.uk/event/pre-school-12/2026-01-06/
CATEGORIES:Pre-School
END:VEVENT
BEGIN:VEVENT
DTSTART;TZID=Europe/London:20260106T190000
DTEND;TZID=Europe/London:20260106T200000
DTSTAMP:20260421T194628
CREATED:20250531T131232Z
LAST-MODIFIED:20250623T220620Z
UID:10005551-1767726000-1767729600@www.brixworthcentre.org.uk
SUMMARY:Tai-Chi
DESCRIPTION:
URL:https://www.brixworthcentre.org.uk/event/tai-chi-2/2026-01-06/
CATEGORIES:Tai Chi
END:VEVENT
BEGIN:VEVENT
DTSTART;TZID=Europe/London:20260107T074500
DTEND;TZID=Europe/London:20260107T174500
DTSTAMP:20260421T194628
CREATED:20250531T135233Z
LAST-MODIFIED:20250531T135950Z
UID:10005967-1767771900-1767807900@www.brixworthcentre.org.uk
SUMMARY:Pre-School
DESCRIPTION:
URL:https://www.brixworthcentre.org.uk/event/pre-school-12/2026-01-07/
CATEGORIES:Pre-School
END:VEVENT
BEGIN:VEVENT
DTSTART;TZID=Europe/London:20260107T193000
DTEND;TZID=Europe/London:20260107T210000
DTSTAMP:20260421T194628
CREATED:20250531T132127Z
LAST-MODIFIED:20250531T132127Z
UID:10005712-1767814200-1767819600@www.brixworthcentre.org.uk
SUMMARY:Nene Consort
DESCRIPTION:
URL:https://www.brixworthcentre.org.uk/event/nene-consort/2026-01-07/
CATEGORIES:Nene Consort
END:VEVENT
BEGIN:VEVENT
DTSTART;TZID=Europe/London:20260108T074500
DTEND;TZID=Europe/London:20260108T174500
DTSTAMP:20260421T194628
CREATED:20250531T135233Z
LAST-MODIFIED:20250531T135950Z
UID:10005968-1767858300-1767894300@www.brixworthcentre.org.uk
SUMMARY:Pre-School
DESCRIPTION:
URL:https://www.brixworthcentre.org.uk/event/pre-school-12/2026-01-08/
CATEGORIES:Pre-School
END:VEVENT
BEGIN:VEVENT
DTSTART;TZID=Europe/London:20260108T180000
DTEND;TZID=Europe/London:20260108T203000
DTSTAMP:20260421T194628
CREATED:20250531T132248Z
LAST-MODIFIED:20250831T153431Z
UID:10005748-1767895200-1767904200@www.brixworthcentre.org.uk
SUMMARY:Cubs & Beavers
DESCRIPTION:
URL:https://www.brixworthcentre.org.uk/event/cubs-beavers-2/2026-01-08/
CATEGORIES:Cubs
END:VEVENT
BEGIN:VEVENT
DTSTART;TZID=Europe/London:20260109T084500
DTEND;TZID=Europe/London:20260109T123000
DTSTAMP:20260421T194628
CREATED:20250531T135335Z
LAST-MODIFIED:20250531T135525Z
UID:10006067-1767948300-1767961800@www.brixworthcentre.org.uk
SUMMARY:Pre-School
DESCRIPTION:
URL:https://www.brixworthcentre.org.uk/event/pre-school-14/2026-01-09/
CATEGORIES:Pre-School
END:VEVENT
BEGIN:VEVENT
DTSTART;TZID=Europe/London:20260109T143000
DTEND;TZID=Europe/London:20260109T163000
DTSTAMP:20260421T194628
CREATED:20250531T131740Z
LAST-MODIFIED:20250831T154013Z
UID:10005632-1767969000-1767976200@www.brixworthcentre.org.uk
SUMMARY:Short Mat Bowls
DESCRIPTION:
URL:https://www.brixworthcentre.org.uk/event/short-mat-bowls/2026-01-09/
CATEGORIES:Short Mat Bowls
END:VEVENT
BEGIN:VEVENT
DTSTART;TZID=Europe/London:20260109T190000
DTEND;TZID=Europe/London:20260109T210000
DTSTAMP:20260421T194628
CREATED:20250531T131833Z
LAST-MODIFIED:20250807T181036Z
UID:10005684-1767985200-1767992400@www.brixworthcentre.org.uk
SUMMARY:Short Mat Bowls
DESCRIPTION:
URL:https://www.brixworthcentre.org.uk/event/short-mat-bowls-2/2026-01-09/
CATEGORIES:Short Mat Bowls
END:VEVENT
BEGIN:VEVENT
DTSTART;TZID=Europe/London:20260112T074500
DTEND;TZID=Europe/London:20260112T174500
DTSTAMP:20260421T194628
CREATED:20250531T135233Z
LAST-MODIFIED:20250531T135950Z
UID:10005969-1768203900-1768239900@www.brixworthcentre.org.uk
SUMMARY:Pre-School
DESCRIPTION:
URL:https://www.brixworthcentre.org.uk/event/pre-school-12/2026-01-12/
CATEGORIES:Pre-School
END:VEVENT
BEGIN:VEVENT
DTSTART;TZID=Europe/London:20260112T181500
DTEND;TZID=Europe/London:20260112T194500
DTSTAMP:20260421T194628
CREATED:20250531T132355Z
LAST-MODIFIED:20250531T133919Z
UID:10005801-1768241700-1768247100@www.brixworthcentre.org.uk
SUMMARY:Scouts
DESCRIPTION:
URL:https://www.brixworthcentre.org.uk/event/scouts-2/2026-01-12/
CATEGORIES:Scouts
END:VEVENT
BEGIN:VEVENT
DTSTART;TZID=Europe/London:20260113T074500
DTEND;TZID=Europe/London:20260113T174500
DTSTAMP:20260421T194628
CREATED:20250531T135233Z
LAST-MODIFIED:20250531T135950Z
UID:10005970-1768290300-1768326300@www.brixworthcentre.org.uk
SUMMARY:Pre-School
DESCRIPTION:
URL:https://www.brixworthcentre.org.uk/event/pre-school-12/2026-01-13/
CATEGORIES:Pre-School
END:VEVENT
BEGIN:VEVENT
DTSTART;TZID=Europe/London:20260113T190000
DTEND;TZID=Europe/London:20260113T200000
DTSTAMP:20260421T194628
CREATED:20250531T131232Z
LAST-MODIFIED:20250623T220620Z
UID:10005552-1768330800-1768334400@www.brixworthcentre.org.uk
SUMMARY:Tai-Chi
DESCRIPTION:
URL:https://www.brixworthcentre.org.uk/event/tai-chi-2/2026-01-13/
CATEGORIES:Tai Chi
END:VEVENT
BEGIN:VEVENT
DTSTART;TZID=Europe/London:20260114T074500
DTEND;TZID=Europe/London:20260114T174500
DTSTAMP:20260421T194628
CREATED:20250531T135233Z
LAST-MODIFIED:20250531T135950Z
UID:10005971-1768376700-1768412700@www.brixworthcentre.org.uk
SUMMARY:Pre-School
DESCRIPTION:
URL:https://www.brixworthcentre.org.uk/event/pre-school-12/2026-01-14/
CATEGORIES:Pre-School
END:VEVENT
BEGIN:VEVENT
DTSTART;TZID=Europe/London:20260115T074500
DTEND;TZID=Europe/London:20260115T174500
DTSTAMP:20260421T194628
CREATED:20250531T135233Z
LAST-MODIFIED:20250531T135950Z
UID:10005972-1768463100-1768499100@www.brixworthcentre.org.uk
SUMMARY:Pre-School
DESCRIPTION:
URL:https://www.brixworthcentre.org.uk/event/pre-school-12/2026-01-15/
CATEGORIES:Pre-School
END:VEVENT
BEGIN:VEVENT
DTSTART;TZID=Europe/London:20260115T180000
DTEND;TZID=Europe/London:20260115T203000
DTSTAMP:20260421T194628
CREATED:20250531T132248Z
LAST-MODIFIED:20250831T153431Z
UID:10005749-1768500000-1768509000@www.brixworthcentre.org.uk
SUMMARY:Cubs & Beavers
DESCRIPTION:
URL:https://www.brixworthcentre.org.uk/event/cubs-beavers-2/2026-01-15/
CATEGORIES:Cubs
END:VEVENT
BEGIN:VEVENT
DTSTART;TZID=Europe/London:20260116T084500
DTEND;TZID=Europe/London:20260116T123000
DTSTAMP:20260421T194628
CREATED:20250531T135335Z
LAST-MODIFIED:20250531T135525Z
UID:10006068-1768553100-1768566600@www.brixworthcentre.org.uk
SUMMARY:Pre-School
DESCRIPTION:
URL:https://www.brixworthcentre.org.uk/event/pre-school-14/2026-01-16/
CATEGORIES:Pre-School
END:VEVENT
BEGIN:VEVENT
DTSTART;TZID=Europe/London:20260116T143000
DTEND;TZID=Europe/London:20260116T163000
DTSTAMP:20260421T194628
CREATED:20250531T131740Z
LAST-MODIFIED:20250831T154013Z
UID:10005633-1768573800-1768581000@www.brixworthcentre.org.uk
SUMMARY:Short Mat Bowls
DESCRIPTION:
URL:https://www.brixworthcentre.org.uk/event/short-mat-bowls/2026-01-16/
CATEGORIES:Short Mat Bowls
END:VEVENT
BEGIN:VEVENT
DTSTART;TZID=Europe/London:20260116T190000
DTEND;TZID=Europe/London:20260116T210000
DTSTAMP:20260421T194628
CREATED:20250531T131833Z
LAST-MODIFIED:20250807T181036Z
UID:10005685-1768590000-1768597200@www.brixworthcentre.org.uk
SUMMARY:Short Mat Bowls
DESCRIPTION:
URL:https://www.brixworthcentre.org.uk/event/short-mat-bowls-2/2026-01-16/
CATEGORIES:Short Mat Bowls
END:VEVENT
BEGIN:VEVENT
DTSTART;TZID=Europe/London:20260119T074500
DTEND;TZID=Europe/London:20260119T174500
DTSTAMP:20260421T194628
CREATED:20250531T135233Z
LAST-MODIFIED:20250531T135950Z
UID:10005973-1768808700-1768844700@www.brixworthcentre.org.uk
SUMMARY:Pre-School
DESCRIPTION:
URL:https://www.brixworthcentre.org.uk/event/pre-school-12/2026-01-19/
CATEGORIES:Pre-School
END:VEVENT
BEGIN:VEVENT
DTSTART;TZID=Europe/London:20260119T181500
DTEND;TZID=Europe/London:20260119T194500
DTSTAMP:20260421T194628
CREATED:20250531T132355Z
LAST-MODIFIED:20250531T133919Z
UID:10005802-1768846500-1768851900@www.brixworthcentre.org.uk
SUMMARY:Scouts
DESCRIPTION:
URL:https://www.brixworthcentre.org.uk/event/scouts-2/2026-01-19/
CATEGORIES:Scouts
END:VEVENT
BEGIN:VEVENT
DTSTART;TZID=Europe/London:20260120T074500
DTEND;TZID=Europe/London:20260120T174500
DTSTAMP:20260421T194628
CREATED:20250531T135233Z
LAST-MODIFIED:20250531T135950Z
UID:10005974-1768895100-1768931100@www.brixworthcentre.org.uk
SUMMARY:Pre-School
DESCRIPTION:
URL:https://www.brixworthcentre.org.uk/event/pre-school-12/2026-01-20/
CATEGORIES:Pre-School
END:VEVENT
BEGIN:VEVENT
DTSTART;TZID=Europe/London:20260120T190000
DTEND;TZID=Europe/London:20260120T200000
DTSTAMP:20260421T194628
CREATED:20250531T131232Z
LAST-MODIFIED:20250623T220620Z
UID:10005553-1768935600-1768939200@www.brixworthcentre.org.uk
SUMMARY:Tai-Chi
DESCRIPTION:
URL:https://www.brixworthcentre.org.uk/event/tai-chi-2/2026-01-20/
CATEGORIES:Tai Chi
END:VEVENT
BEGIN:VEVENT
DTSTART;TZID=Europe/London:20260121T074500
DTEND;TZID=Europe/London:20260121T174500
DTSTAMP:20260421T194628
CREATED:20250531T135233Z
LAST-MODIFIED:20250531T135950Z
UID:10005975-1768981500-1769017500@www.brixworthcentre.org.uk
SUMMARY:Pre-School
DESCRIPTION:
URL:https://www.brixworthcentre.org.uk/event/pre-school-12/2026-01-21/
CATEGORIES:Pre-School
END:VEVENT
BEGIN:VEVENT
DTSTART;TZID=Europe/London:20260121T193000
DTEND;TZID=Europe/London:20260121T210000
DTSTAMP:20260421T194628
CREATED:20250531T131535Z
LAST-MODIFIED:20250531T131535Z
UID:10005592-1769023800-1769029200@www.brixworthcentre.org.uk
SUMMARY:Nene Consort
DESCRIPTION:
URL:https://www.brixworthcentre.org.uk/event/nene-consort-2/2026-01-21/
CATEGORIES:Nene Consort
END:VEVENT
BEGIN:VEVENT
DTSTART;TZID=Europe/London:20260122T074500
DTEND;TZID=Europe/London:20260122T174500
DTSTAMP:20260421T194628
CREATED:20250531T135233Z
LAST-MODIFIED:20250531T135950Z
UID:10005976-1769067900-1769103900@www.brixworthcentre.org.uk
SUMMARY:Pre-School
DESCRIPTION:
URL:https://www.brixworthcentre.org.uk/event/pre-school-12/2026-01-22/
CATEGORIES:Pre-School
END:VEVENT
BEGIN:VEVENT
DTSTART;TZID=Europe/London:20260122T180000
DTEND;TZID=Europe/London:20260122T203000
DTSTAMP:20260421T194628
CREATED:20250531T132248Z
LAST-MODIFIED:20250831T153431Z
UID:10005750-1769104800-1769113800@www.brixworthcentre.org.uk
SUMMARY:Cubs & Beavers
DESCRIPTION:
URL:https://www.brixworthcentre.org.uk/event/cubs-beavers-2/2026-01-22/
CATEGORIES:Cubs
END:VEVENT
BEGIN:VEVENT
DTSTART;TZID=Europe/London:20260123T084500
DTEND;TZID=Europe/London:20260123T123000
DTSTAMP:20260421T194628
CREATED:20250531T135335Z
LAST-MODIFIED:20250531T135525Z
UID:10006069-1769157900-1769171400@www.brixworthcentre.org.uk
SUMMARY:Pre-School
DESCRIPTION:
URL:https://www.brixworthcentre.org.uk/event/pre-school-14/2026-01-23/
CATEGORIES:Pre-School
END:VEVENT
END:VCALENDAR