BEGIN:VCALENDAR
VERSION:2.0
PRODID:-//The Brixworth Centre - ECPv6.15.20//NONSGML v1.0//EN
CALSCALE:GREGORIAN
METHOD:PUBLISH
X-WR-CALNAME:The Brixworth Centre
X-ORIGINAL-URL:https://www.brixworthcentre.org.uk
X-WR-CALDESC:Events for The Brixworth Centre
REFRESH-INTERVAL;VALUE=DURATION:PT1H
X-Robots-Tag:noindex
X-PUBLISHED-TTL:PT1H
BEGIN:VTIMEZONE
TZID:Europe/London
BEGIN:DAYLIGHT
TZOFFSETFROM:+0000
TZOFFSETTO:+0100
TZNAME:BST
DTSTART:20250330T010000
END:DAYLIGHT
BEGIN:STANDARD
TZOFFSETFROM:+0100
TZOFFSETTO:+0000
TZNAME:GMT
DTSTART:20251026T010000
END:STANDARD
BEGIN:DAYLIGHT
TZOFFSETFROM:+0000
TZOFFSETTO:+0100
TZNAME:BST
DTSTART:20260329T010000
END:DAYLIGHT
BEGIN:STANDARD
TZOFFSETFROM:+0100
TZOFFSETTO:+0000
TZNAME:GMT
DTSTART:20261025T010000
END:STANDARD
BEGIN:DAYLIGHT
TZOFFSETFROM:+0000
TZOFFSETTO:+0100
TZNAME:BST
DTSTART:20270328T010000
END:DAYLIGHT
BEGIN:STANDARD
TZOFFSETFROM:+0100
TZOFFSETTO:+0000
TZNAME:GMT
DTSTART:20271031T010000
END:STANDARD
END:VTIMEZONE
BEGIN:VEVENT
DTSTART;TZID=Europe/London:20260302T074500
DTEND;TZID=Europe/London:20260302T174500
DTSTAMP:20260421T163243
CREATED:20250531T135233Z
LAST-MODIFIED:20250531T135950Z
UID:10005997-1772437500-1772473500@www.brixworthcentre.org.uk
SUMMARY:Pre-School
DESCRIPTION:
URL:https://www.brixworthcentre.org.uk/event/pre-school-12/2026-03-02/
CATEGORIES:Pre-School
END:VEVENT
BEGIN:VEVENT
DTSTART;TZID=Europe/London:20260302T181500
DTEND;TZID=Europe/London:20260302T194500
DTSTAMP:20260421T163243
CREATED:20250531T132355Z
LAST-MODIFIED:20250531T133919Z
UID:10005808-1772475300-1772480700@www.brixworthcentre.org.uk
SUMMARY:Scouts
DESCRIPTION:
URL:https://www.brixworthcentre.org.uk/event/scouts-2/2026-03-02/
CATEGORIES:Scouts
END:VEVENT
BEGIN:VEVENT
DTSTART;TZID=Europe/London:20260303T074500
DTEND;TZID=Europe/London:20260303T174500
DTSTAMP:20260421T163243
CREATED:20250531T135233Z
LAST-MODIFIED:20250531T135950Z
UID:10005998-1772523900-1772559900@www.brixworthcentre.org.uk
SUMMARY:Pre-School
DESCRIPTION:
URL:https://www.brixworthcentre.org.uk/event/pre-school-12/2026-03-03/
CATEGORIES:Pre-School
END:VEVENT
BEGIN:VEVENT
DTSTART;TZID=Europe/London:20260303T190000
DTEND;TZID=Europe/London:20260303T200000
DTSTAMP:20260421T163243
CREATED:20250531T131232Z
LAST-MODIFIED:20250623T220620Z
UID:10005559-1772564400-1772568000@www.brixworthcentre.org.uk
SUMMARY:Tai-Chi
DESCRIPTION:
URL:https://www.brixworthcentre.org.uk/event/tai-chi-2/2026-03-03/
CATEGORIES:Tai Chi
END:VEVENT
BEGIN:VEVENT
DTSTART;TZID=Europe/London:20260304T074500
DTEND;TZID=Europe/London:20260304T174500
DTSTAMP:20260421T163243
CREATED:20250531T135233Z
LAST-MODIFIED:20250531T135950Z
UID:10005999-1772610300-1772646300@www.brixworthcentre.org.uk
SUMMARY:Pre-School
DESCRIPTION:
URL:https://www.brixworthcentre.org.uk/event/pre-school-12/2026-03-04/
CATEGORIES:Pre-School
END:VEVENT
BEGIN:VEVENT
DTSTART;TZID=Europe/London:20260304T193000
DTEND;TZID=Europe/London:20260304T210000
DTSTAMP:20260421T163243
CREATED:20250531T132127Z
LAST-MODIFIED:20250531T132127Z
UID:10005714-1772652600-1772658000@www.brixworthcentre.org.uk
SUMMARY:Nene Consort
DESCRIPTION:
URL:https://www.brixworthcentre.org.uk/event/nene-consort/2026-03-04/
CATEGORIES:Nene Consort
END:VEVENT
BEGIN:VEVENT
DTSTART;TZID=Europe/London:20260305T074500
DTEND;TZID=Europe/London:20260305T174500
DTSTAMP:20260421T163243
CREATED:20250531T135233Z
LAST-MODIFIED:20250531T135950Z
UID:10006000-1772696700-1772732700@www.brixworthcentre.org.uk
SUMMARY:Pre-School
DESCRIPTION:
URL:https://www.brixworthcentre.org.uk/event/pre-school-12/2026-03-05/
CATEGORIES:Pre-School
END:VEVENT
BEGIN:VEVENT
DTSTART;TZID=Europe/London:20260305T180000
DTEND;TZID=Europe/London:20260305T203000
DTSTAMP:20260421T163243
CREATED:20250531T132248Z
LAST-MODIFIED:20250831T153431Z
UID:10005756-1772733600-1772742600@www.brixworthcentre.org.uk
SUMMARY:Cubs & Beavers
DESCRIPTION:
URL:https://www.brixworthcentre.org.uk/event/cubs-beavers-2/2026-03-05/
CATEGORIES:Cubs
END:VEVENT
BEGIN:VEVENT
DTSTART;TZID=Europe/London:20260306T084500
DTEND;TZID=Europe/London:20260306T123000
DTSTAMP:20260421T163243
CREATED:20250531T135335Z
LAST-MODIFIED:20250531T135525Z
UID:10006075-1772786700-1772800200@www.brixworthcentre.org.uk
SUMMARY:Pre-School
DESCRIPTION:
URL:https://www.brixworthcentre.org.uk/event/pre-school-14/2026-03-06/
CATEGORIES:Pre-School
END:VEVENT
BEGIN:VEVENT
DTSTART;TZID=Europe/London:20260306T143000
DTEND;TZID=Europe/London:20260306T163000
DTSTAMP:20260421T163243
CREATED:20250531T131740Z
LAST-MODIFIED:20250831T154013Z
UID:10005640-1772807400-1772814600@www.brixworthcentre.org.uk
SUMMARY:Short Mat Bowls
DESCRIPTION:
URL:https://www.brixworthcentre.org.uk/event/short-mat-bowls/2026-03-06/
CATEGORIES:Short Mat Bowls
END:VEVENT
BEGIN:VEVENT
DTSTART;TZID=Europe/London:20260306T190000
DTEND;TZID=Europe/London:20260306T210000
DTSTAMP:20260421T163243
CREATED:20250531T131833Z
LAST-MODIFIED:20250807T181036Z
UID:10005692-1772823600-1772830800@www.brixworthcentre.org.uk
SUMMARY:Short Mat Bowls
DESCRIPTION:
URL:https://www.brixworthcentre.org.uk/event/short-mat-bowls-2/2026-03-06/
CATEGORIES:Short Mat Bowls
END:VEVENT
BEGIN:VEVENT
DTSTART;TZID=Europe/London:20260309T074500
DTEND;TZID=Europe/London:20260309T174500
DTSTAMP:20260421T163243
CREATED:20250531T135233Z
LAST-MODIFIED:20250531T135950Z
UID:10006001-1773042300-1773078300@www.brixworthcentre.org.uk
SUMMARY:Pre-School
DESCRIPTION:
URL:https://www.brixworthcentre.org.uk/event/pre-school-12/2026-03-09/
CATEGORIES:Pre-School
END:VEVENT
BEGIN:VEVENT
DTSTART;TZID=Europe/London:20260309T181500
DTEND;TZID=Europe/London:20260309T194500
DTSTAMP:20260421T163243
CREATED:20250531T132355Z
LAST-MODIFIED:20250531T133919Z
UID:10005809-1773080100-1773085500@www.brixworthcentre.org.uk
SUMMARY:Scouts
DESCRIPTION:
URL:https://www.brixworthcentre.org.uk/event/scouts-2/2026-03-09/
CATEGORIES:Scouts
END:VEVENT
BEGIN:VEVENT
DTSTART;TZID=Europe/London:20260310T074500
DTEND;TZID=Europe/London:20260310T174500
DTSTAMP:20260421T163243
CREATED:20250531T135233Z
LAST-MODIFIED:20250531T135950Z
UID:10006002-1773128700-1773164700@www.brixworthcentre.org.uk
SUMMARY:Pre-School
DESCRIPTION:
URL:https://www.brixworthcentre.org.uk/event/pre-school-12/2026-03-10/
CATEGORIES:Pre-School
END:VEVENT
BEGIN:VEVENT
DTSTART;TZID=Europe/London:20260310T190000
DTEND;TZID=Europe/London:20260310T200000
DTSTAMP:20260421T163243
CREATED:20250531T131232Z
LAST-MODIFIED:20250623T220620Z
UID:10005560-1773169200-1773172800@www.brixworthcentre.org.uk
SUMMARY:Tai-Chi
DESCRIPTION:
URL:https://www.brixworthcentre.org.uk/event/tai-chi-2/2026-03-10/
CATEGORIES:Tai Chi
END:VEVENT
BEGIN:VEVENT
DTSTART;TZID=Europe/London:20260311T074500
DTEND;TZID=Europe/London:20260311T174500
DTSTAMP:20260421T163243
CREATED:20250531T135233Z
LAST-MODIFIED:20250531T135950Z
UID:10006003-1773215100-1773251100@www.brixworthcentre.org.uk
SUMMARY:Pre-School
DESCRIPTION:
URL:https://www.brixworthcentre.org.uk/event/pre-school-12/2026-03-11/
CATEGORIES:Pre-School
END:VEVENT
BEGIN:VEVENT
DTSTART;TZID=Europe/London:20260312T074500
DTEND;TZID=Europe/London:20260312T174500
DTSTAMP:20260421T163243
CREATED:20250531T135233Z
LAST-MODIFIED:20250531T135950Z
UID:10006004-1773301500-1773337500@www.brixworthcentre.org.uk
SUMMARY:Pre-School
DESCRIPTION:
URL:https://www.brixworthcentre.org.uk/event/pre-school-12/2026-03-12/
CATEGORIES:Pre-School
END:VEVENT
BEGIN:VEVENT
DTSTART;TZID=Europe/London:20260312T180000
DTEND;TZID=Europe/London:20260312T203000
DTSTAMP:20260421T163243
CREATED:20250531T132248Z
LAST-MODIFIED:20250831T153431Z
UID:10005757-1773338400-1773347400@www.brixworthcentre.org.uk
SUMMARY:Cubs & Beavers
DESCRIPTION:
URL:https://www.brixworthcentre.org.uk/event/cubs-beavers-2/2026-03-12/
CATEGORIES:Cubs
END:VEVENT
BEGIN:VEVENT
DTSTART;TZID=Europe/London:20260313T084500
DTEND;TZID=Europe/London:20260313T123000
DTSTAMP:20260421T163243
CREATED:20250531T135335Z
LAST-MODIFIED:20250531T135525Z
UID:10006076-1773391500-1773405000@www.brixworthcentre.org.uk
SUMMARY:Pre-School
DESCRIPTION:
URL:https://www.brixworthcentre.org.uk/event/pre-school-14/2026-03-13/
CATEGORIES:Pre-School
END:VEVENT
BEGIN:VEVENT
DTSTART;TZID=Europe/London:20260313T143000
DTEND;TZID=Europe/London:20260313T163000
DTSTAMP:20260421T163243
CREATED:20250531T131740Z
LAST-MODIFIED:20250831T154013Z
UID:10005641-1773412200-1773419400@www.brixworthcentre.org.uk
SUMMARY:Short Mat Bowls
DESCRIPTION:
URL:https://www.brixworthcentre.org.uk/event/short-mat-bowls/2026-03-13/
CATEGORIES:Short Mat Bowls
END:VEVENT
BEGIN:VEVENT
DTSTART;TZID=Europe/London:20260313T190000
DTEND;TZID=Europe/London:20260313T210000
DTSTAMP:20260421T163243
CREATED:20250531T131833Z
LAST-MODIFIED:20250807T181036Z
UID:10005693-1773428400-1773435600@www.brixworthcentre.org.uk
SUMMARY:Short Mat Bowls
DESCRIPTION:
URL:https://www.brixworthcentre.org.uk/event/short-mat-bowls-2/2026-03-13/
CATEGORIES:Short Mat Bowls
END:VEVENT
BEGIN:VEVENT
DTSTART;TZID=Europe/London:20260315T110000
DTEND;TZID=Europe/London:20260315T170000
DTSTAMP:20260421T163243
CREATED:20260301T132119Z
LAST-MODIFIED:20260301T132119Z
UID:10006148-1773572400-1773594000@www.brixworthcentre.org.uk
SUMMARY:Adhoc
DESCRIPTION:
URL:https://www.brixworthcentre.org.uk/event/adhoc-6/
END:VEVENT
BEGIN:VEVENT
DTSTART;TZID=Europe/London:20260316T074500
DTEND;TZID=Europe/London:20260316T174500
DTSTAMP:20260421T163243
CREATED:20250531T135233Z
LAST-MODIFIED:20250531T135950Z
UID:10006005-1773647100-1773683100@www.brixworthcentre.org.uk
SUMMARY:Pre-School
DESCRIPTION:
URL:https://www.brixworthcentre.org.uk/event/pre-school-12/2026-03-16/
CATEGORIES:Pre-School
END:VEVENT
BEGIN:VEVENT
DTSTART;TZID=Europe/London:20260316T181500
DTEND;TZID=Europe/London:20260316T194500
DTSTAMP:20260421T163243
CREATED:20250531T132355Z
LAST-MODIFIED:20250531T133919Z
UID:10005810-1773684900-1773690300@www.brixworthcentre.org.uk
SUMMARY:Scouts
DESCRIPTION:
URL:https://www.brixworthcentre.org.uk/event/scouts-2/2026-03-16/
CATEGORIES:Scouts
END:VEVENT
BEGIN:VEVENT
DTSTART;TZID=Europe/London:20260317T074500
DTEND;TZID=Europe/London:20260317T174500
DTSTAMP:20260421T163243
CREATED:20250531T135233Z
LAST-MODIFIED:20250531T135950Z
UID:10006006-1773733500-1773769500@www.brixworthcentre.org.uk
SUMMARY:Pre-School
DESCRIPTION:
URL:https://www.brixworthcentre.org.uk/event/pre-school-12/2026-03-17/
CATEGORIES:Pre-School
END:VEVENT
BEGIN:VEVENT
DTSTART;TZID=Europe/London:20260317T190000
DTEND;TZID=Europe/London:20260317T200000
DTSTAMP:20260421T163243
CREATED:20250531T131232Z
LAST-MODIFIED:20250623T220620Z
UID:10005561-1773774000-1773777600@www.brixworthcentre.org.uk
SUMMARY:Tai-Chi
DESCRIPTION:
URL:https://www.brixworthcentre.org.uk/event/tai-chi-2/2026-03-17/
CATEGORIES:Tai Chi
END:VEVENT
BEGIN:VEVENT
DTSTART;TZID=Europe/London:20260318T074500
DTEND;TZID=Europe/London:20260318T174500
DTSTAMP:20260421T163243
CREATED:20250531T135233Z
LAST-MODIFIED:20250531T135950Z
UID:10006007-1773819900-1773855900@www.brixworthcentre.org.uk
SUMMARY:Pre-School
DESCRIPTION:
URL:https://www.brixworthcentre.org.uk/event/pre-school-12/2026-03-18/
CATEGORIES:Pre-School
END:VEVENT
BEGIN:VEVENT
DTSTART;TZID=Europe/London:20260318T193000
DTEND;TZID=Europe/London:20260318T210000
DTSTAMP:20260421T163243
CREATED:20250531T131535Z
LAST-MODIFIED:20250531T131535Z
UID:10005594-1773862200-1773867600@www.brixworthcentre.org.uk
SUMMARY:Nene Consort
DESCRIPTION:
URL:https://www.brixworthcentre.org.uk/event/nene-consort-2/2026-03-18/
CATEGORIES:Nene Consort
END:VEVENT
BEGIN:VEVENT
DTSTART;TZID=Europe/London:20260319T074500
DTEND;TZID=Europe/London:20260319T174500
DTSTAMP:20260421T163243
CREATED:20250531T135233Z
LAST-MODIFIED:20250531T135950Z
UID:10006008-1773906300-1773942300@www.brixworthcentre.org.uk
SUMMARY:Pre-School
DESCRIPTION:
URL:https://www.brixworthcentre.org.uk/event/pre-school-12/2026-03-19/
CATEGORIES:Pre-School
END:VEVENT
BEGIN:VEVENT
DTSTART;TZID=Europe/London:20260319T180000
DTEND;TZID=Europe/London:20260319T203000
DTSTAMP:20260421T163243
CREATED:20250531T132248Z
LAST-MODIFIED:20250831T153431Z
UID:10005758-1773943200-1773952200@www.brixworthcentre.org.uk
SUMMARY:Cubs & Beavers
DESCRIPTION:
URL:https://www.brixworthcentre.org.uk/event/cubs-beavers-2/2026-03-19/
CATEGORIES:Cubs
END:VEVENT
END:VCALENDAR