BEGIN:VCALENDAR
VERSION:2.0
PRODID:-//The Brixworth Centre - ECPv6.15.20//NONSGML v1.0//EN
CALSCALE:GREGORIAN
METHOD:PUBLISH
X-WR-CALNAME:The Brixworth Centre
X-ORIGINAL-URL:https://www.brixworthcentre.org.uk
X-WR-CALDESC:Events for The Brixworth Centre
REFRESH-INTERVAL;VALUE=DURATION:PT1H
X-Robots-Tag:noindex
X-PUBLISHED-TTL:PT1H
BEGIN:VTIMEZONE
TZID:Europe/London
BEGIN:DAYLIGHT
TZOFFSETFROM:+0000
TZOFFSETTO:+0100
TZNAME:BST
DTSTART:20250330T010000
END:DAYLIGHT
BEGIN:STANDARD
TZOFFSETFROM:+0100
TZOFFSETTO:+0000
TZNAME:GMT
DTSTART:20251026T010000
END:STANDARD
BEGIN:DAYLIGHT
TZOFFSETFROM:+0000
TZOFFSETTO:+0100
TZNAME:BST
DTSTART:20260329T010000
END:DAYLIGHT
BEGIN:STANDARD
TZOFFSETFROM:+0100
TZOFFSETTO:+0000
TZNAME:GMT
DTSTART:20261025T010000
END:STANDARD
BEGIN:DAYLIGHT
TZOFFSETFROM:+0000
TZOFFSETTO:+0100
TZNAME:BST
DTSTART:20270328T010000
END:DAYLIGHT
BEGIN:STANDARD
TZOFFSETFROM:+0100
TZOFFSETTO:+0000
TZNAME:GMT
DTSTART:20271031T010000
END:STANDARD
END:VTIMEZONE
BEGIN:VEVENT
DTSTART;TZID=Europe/London:20260501T084500
DTEND;TZID=Europe/London:20260501T123000
DTSTAMP:20260421T162419
CREATED:20250531T135335Z
LAST-MODIFIED:20250531T135525Z
UID:10006083-1777625100-1777638600@www.brixworthcentre.org.uk
SUMMARY:Pre-School
DESCRIPTION:
URL:https://www.brixworthcentre.org.uk/event/pre-school-14/2026-05-01/
CATEGORIES:Pre-School
END:VEVENT
BEGIN:VEVENT
DTSTART;TZID=Europe/London:20260501T143000
DTEND;TZID=Europe/London:20260501T163000
DTSTAMP:20260421T162419
CREATED:20250531T131740Z
LAST-MODIFIED:20250831T154013Z
UID:10005648-1777645800-1777653000@www.brixworthcentre.org.uk
SUMMARY:Short Mat Bowls
DESCRIPTION:
URL:https://www.brixworthcentre.org.uk/event/short-mat-bowls/2026-05-01/
CATEGORIES:Short Mat Bowls
END:VEVENT
BEGIN:VEVENT
DTSTART;TZID=Europe/London:20260501T190000
DTEND;TZID=Europe/London:20260501T210000
DTSTAMP:20260421T162419
CREATED:20250531T131833Z
LAST-MODIFIED:20250807T181036Z
UID:10005700-1777662000-1777669200@www.brixworthcentre.org.uk
SUMMARY:Short Mat Bowls
DESCRIPTION:
URL:https://www.brixworthcentre.org.uk/event/short-mat-bowls-2/2026-05-01/
CATEGORIES:Short Mat Bowls
END:VEVENT
BEGIN:VEVENT
DTSTART;TZID=Europe/London:20260505T074500
DTEND;TZID=Europe/London:20260505T174500
DTSTAMP:20260421T162419
CREATED:20250531T135233Z
LAST-MODIFIED:20250531T135950Z
UID:10006034-1777967100-1778003100@www.brixworthcentre.org.uk
SUMMARY:Pre-School
DESCRIPTION:
URL:https://www.brixworthcentre.org.uk/event/pre-school-12/2026-05-05/
CATEGORIES:Pre-School
END:VEVENT
BEGIN:VEVENT
DTSTART;TZID=Europe/London:20260505T190000
DTEND;TZID=Europe/London:20260505T200000
DTSTAMP:20260421T162419
CREATED:20250531T131232Z
LAST-MODIFIED:20250623T220620Z
UID:10005568-1778007600-1778011200@www.brixworthcentre.org.uk
SUMMARY:Tai-Chi
DESCRIPTION:
URL:https://www.brixworthcentre.org.uk/event/tai-chi-2/2026-05-05/
CATEGORIES:Tai Chi
END:VEVENT
BEGIN:VEVENT
DTSTART;TZID=Europe/London:20260506T074500
DTEND;TZID=Europe/London:20260506T174500
DTSTAMP:20260421T162419
CREATED:20250531T135233Z
LAST-MODIFIED:20250531T135950Z
UID:10006035-1778053500-1778089500@www.brixworthcentre.org.uk
SUMMARY:Pre-School
DESCRIPTION:
URL:https://www.brixworthcentre.org.uk/event/pre-school-12/2026-05-06/
CATEGORIES:Pre-School
END:VEVENT
BEGIN:VEVENT
DTSTART;TZID=Europe/London:20260506T193000
DTEND;TZID=Europe/London:20260506T210000
DTSTAMP:20260421T162419
CREATED:20250531T132127Z
LAST-MODIFIED:20250531T132127Z
UID:10005716-1778095800-1778101200@www.brixworthcentre.org.uk
SUMMARY:Nene Consort
DESCRIPTION:
URL:https://www.brixworthcentre.org.uk/event/nene-consort/2026-05-06/
CATEGORIES:Nene Consort
END:VEVENT
BEGIN:VEVENT
DTSTART;TZID=Europe/London:20260507T074500
DTEND;TZID=Europe/London:20260507T174500
DTSTAMP:20260421T162419
CREATED:20250531T135233Z
LAST-MODIFIED:20250531T135950Z
UID:10006036-1778139900-1778175900@www.brixworthcentre.org.uk
SUMMARY:Pre-School
DESCRIPTION:
URL:https://www.brixworthcentre.org.uk/event/pre-school-12/2026-05-07/
CATEGORIES:Pre-School
END:VEVENT
BEGIN:VEVENT
DTSTART;TZID=Europe/London:20260507T180000
DTEND;TZID=Europe/London:20260507T203000
DTSTAMP:20260421T162419
CREATED:20250531T132248Z
LAST-MODIFIED:20250831T153431Z
UID:10005765-1778176800-1778185800@www.brixworthcentre.org.uk
SUMMARY:Cubs & Beavers
DESCRIPTION:
URL:https://www.brixworthcentre.org.uk/event/cubs-beavers-2/2026-05-07/
CATEGORIES:Cubs
END:VEVENT
BEGIN:VEVENT
DTSTART;TZID=Europe/London:20260508T084500
DTEND;TZID=Europe/London:20260508T123000
DTSTAMP:20260421T162419
CREATED:20250531T135335Z
LAST-MODIFIED:20250531T135525Z
UID:10006084-1778229900-1778243400@www.brixworthcentre.org.uk
SUMMARY:Pre-School
DESCRIPTION:
URL:https://www.brixworthcentre.org.uk/event/pre-school-14/2026-05-08/
CATEGORIES:Pre-School
END:VEVENT
BEGIN:VEVENT
DTSTART;TZID=Europe/London:20260508T143000
DTEND;TZID=Europe/London:20260508T163000
DTSTAMP:20260421T162419
CREATED:20250531T131740Z
LAST-MODIFIED:20250831T154013Z
UID:10005649-1778250600-1778257800@www.brixworthcentre.org.uk
SUMMARY:Short Mat Bowls
DESCRIPTION:
URL:https://www.brixworthcentre.org.uk/event/short-mat-bowls/2026-05-08/
CATEGORIES:Short Mat Bowls
END:VEVENT
BEGIN:VEVENT
DTSTART;TZID=Europe/London:20260508T190000
DTEND;TZID=Europe/London:20260508T210000
DTSTAMP:20260421T162419
CREATED:20250531T131833Z
LAST-MODIFIED:20250807T181036Z
UID:10005701-1778266800-1778274000@www.brixworthcentre.org.uk
SUMMARY:Short Mat Bowls
DESCRIPTION:
URL:https://www.brixworthcentre.org.uk/event/short-mat-bowls-2/2026-05-08/
CATEGORIES:Short Mat Bowls
END:VEVENT
BEGIN:VEVENT
DTSTART;TZID=Europe/London:20260510T080000
DTEND;TZID=Europe/London:20260510T170000
DTSTAMP:20260421T162419
CREATED:20260119T114241Z
LAST-MODIFIED:20260119T114241Z
UID:10006119-1778400000-1778432400@www.brixworthcentre.org.uk
SUMMARY:Church
DESCRIPTION:
URL:https://www.brixworthcentre.org.uk/event/church-6/2026-05-10/1/
END:VEVENT
BEGIN:VEVENT
DTSTART;TZID=Europe/London:20260510T100000
DTEND;TZID=Europe/London:20260510T130000
DTSTAMP:20260421T162419
CREATED:20260119T114241Z
LAST-MODIFIED:20260119T114241Z
UID:10006120-1778407200-1778418000@www.brixworthcentre.org.uk
SUMMARY:Church
DESCRIPTION:
URL:https://www.brixworthcentre.org.uk/event/church-6/2026-05-10/2/
END:VEVENT
BEGIN:VEVENT
DTSTART;TZID=Europe/London:20260511T074500
DTEND;TZID=Europe/London:20260511T174500
DTSTAMP:20260421T162419
CREATED:20250531T135233Z
LAST-MODIFIED:20250531T135950Z
UID:10006037-1778485500-1778521500@www.brixworthcentre.org.uk
SUMMARY:Pre-School
DESCRIPTION:
URL:https://www.brixworthcentre.org.uk/event/pre-school-12/2026-05-11/
CATEGORIES:Pre-School
END:VEVENT
BEGIN:VEVENT
DTSTART;TZID=Europe/London:20260511T181500
DTEND;TZID=Europe/London:20260511T194500
DTSTAMP:20260421T162419
CREATED:20250531T132355Z
LAST-MODIFIED:20250531T133919Z
UID:10005818-1778523300-1778528700@www.brixworthcentre.org.uk
SUMMARY:Scouts
DESCRIPTION:
URL:https://www.brixworthcentre.org.uk/event/scouts-2/2026-05-11/
CATEGORIES:Scouts
END:VEVENT
BEGIN:VEVENT
DTSTART;TZID=Europe/London:20260512T074500
DTEND;TZID=Europe/London:20260512T174500
DTSTAMP:20260421T162419
CREATED:20250531T135233Z
LAST-MODIFIED:20250531T135950Z
UID:10006038-1778571900-1778607900@www.brixworthcentre.org.uk
SUMMARY:Pre-School
DESCRIPTION:
URL:https://www.brixworthcentre.org.uk/event/pre-school-12/2026-05-12/
CATEGORIES:Pre-School
END:VEVENT
BEGIN:VEVENT
DTSTART;TZID=Europe/London:20260512T190000
DTEND;TZID=Europe/London:20260512T200000
DTSTAMP:20260421T162419
CREATED:20250531T131232Z
LAST-MODIFIED:20250623T220620Z
UID:10005569-1778612400-1778616000@www.brixworthcentre.org.uk
SUMMARY:Tai-Chi
DESCRIPTION:
URL:https://www.brixworthcentre.org.uk/event/tai-chi-2/2026-05-12/
CATEGORIES:Tai Chi
END:VEVENT
BEGIN:VEVENT
DTSTART;TZID=Europe/London:20260513T074500
DTEND;TZID=Europe/London:20260513T174500
DTSTAMP:20260421T162419
CREATED:20250531T135233Z
LAST-MODIFIED:20250531T135950Z
UID:10006039-1778658300-1778694300@www.brixworthcentre.org.uk
SUMMARY:Pre-School
DESCRIPTION:
URL:https://www.brixworthcentre.org.uk/event/pre-school-12/2026-05-13/
CATEGORIES:Pre-School
END:VEVENT
BEGIN:VEVENT
DTSTART;TZID=Europe/London:20260514T074500
DTEND;TZID=Europe/London:20260514T174500
DTSTAMP:20260421T162419
CREATED:20250531T135233Z
LAST-MODIFIED:20250531T135950Z
UID:10006040-1778744700-1778780700@www.brixworthcentre.org.uk
SUMMARY:Pre-School
DESCRIPTION:
URL:https://www.brixworthcentre.org.uk/event/pre-school-12/2026-05-14/
CATEGORIES:Pre-School
END:VEVENT
BEGIN:VEVENT
DTSTART;TZID=Europe/London:20260514T180000
DTEND;TZID=Europe/London:20260514T203000
DTSTAMP:20260421T162419
CREATED:20250531T132248Z
LAST-MODIFIED:20250831T153431Z
UID:10005766-1778781600-1778790600@www.brixworthcentre.org.uk
SUMMARY:Cubs & Beavers
DESCRIPTION:
URL:https://www.brixworthcentre.org.uk/event/cubs-beavers-2/2026-05-14/
CATEGORIES:Cubs
END:VEVENT
BEGIN:VEVENT
DTSTART;TZID=Europe/London:20260515T084500
DTEND;TZID=Europe/London:20260515T123000
DTSTAMP:20260421T162419
CREATED:20250531T135335Z
LAST-MODIFIED:20250531T135525Z
UID:10006085-1778834700-1778848200@www.brixworthcentre.org.uk
SUMMARY:Pre-School
DESCRIPTION:
URL:https://www.brixworthcentre.org.uk/event/pre-school-14/2026-05-15/
CATEGORIES:Pre-School
END:VEVENT
BEGIN:VEVENT
DTSTART;TZID=Europe/London:20260515T143000
DTEND;TZID=Europe/London:20260515T163000
DTSTAMP:20260421T162419
CREATED:20250531T131740Z
LAST-MODIFIED:20250831T154013Z
UID:10005650-1778855400-1778862600@www.brixworthcentre.org.uk
SUMMARY:Short Mat Bowls
DESCRIPTION:
URL:https://www.brixworthcentre.org.uk/event/short-mat-bowls/2026-05-15/
CATEGORIES:Short Mat Bowls
END:VEVENT
BEGIN:VEVENT
DTSTART;TZID=Europe/London:20260515T190000
DTEND;TZID=Europe/London:20260515T210000
DTSTAMP:20260421T162419
CREATED:20250531T131833Z
LAST-MODIFIED:20250807T181036Z
UID:10005702-1778871600-1778878800@www.brixworthcentre.org.uk
SUMMARY:Short Mat Bowls
DESCRIPTION:
URL:https://www.brixworthcentre.org.uk/event/short-mat-bowls-2/2026-05-15/
CATEGORIES:Short Mat Bowls
END:VEVENT
BEGIN:VEVENT
DTSTART;TZID=Europe/London:20260516T103000
DTEND;TZID=Europe/London:20260516T133000
DTSTAMP:20260421T162419
CREATED:20260131T111453Z
LAST-MODIFIED:20260131T111453Z
UID:10006143-1778927400-1778938200@www.brixworthcentre.org.uk
SUMMARY:AD hoc
DESCRIPTION:
URL:https://www.brixworthcentre.org.uk/event/ad-hoc/
END:VEVENT
BEGIN:VEVENT
DTSTART;TZID=Europe/London:20260517T100000
DTEND;TZID=Europe/London:20260517T130000
DTSTAMP:20260421T162419
CREATED:20260119T114330Z
LAST-MODIFIED:20260119T114330Z
UID:10006121-1779012000-1779022800@www.brixworthcentre.org.uk
SUMMARY:Church
DESCRIPTION:
URL:https://www.brixworthcentre.org.uk/event/church-7/
END:VEVENT
BEGIN:VEVENT
DTSTART;TZID=Europe/London:20260518T074500
DTEND;TZID=Europe/London:20260518T174500
DTSTAMP:20260421T162419
CREATED:20250531T135233Z
LAST-MODIFIED:20250531T135950Z
UID:10006041-1779090300-1779126300@www.brixworthcentre.org.uk
SUMMARY:Pre-School
DESCRIPTION:
URL:https://www.brixworthcentre.org.uk/event/pre-school-12/2026-05-18/
CATEGORIES:Pre-School
END:VEVENT
BEGIN:VEVENT
DTSTART;TZID=Europe/London:20260518T181500
DTEND;TZID=Europe/London:20260518T194500
DTSTAMP:20260421T162419
CREATED:20250531T132355Z
LAST-MODIFIED:20250531T133919Z
UID:10005819-1779128100-1779133500@www.brixworthcentre.org.uk
SUMMARY:Scouts
DESCRIPTION:
URL:https://www.brixworthcentre.org.uk/event/scouts-2/2026-05-18/
CATEGORIES:Scouts
END:VEVENT
BEGIN:VEVENT
DTSTART;TZID=Europe/London:20260519T074500
DTEND;TZID=Europe/London:20260519T174500
DTSTAMP:20260421T162419
CREATED:20250531T135233Z
LAST-MODIFIED:20250531T135950Z
UID:10006042-1779176700-1779212700@www.brixworthcentre.org.uk
SUMMARY:Pre-School
DESCRIPTION:
URL:https://www.brixworthcentre.org.uk/event/pre-school-12/2026-05-19/
CATEGORIES:Pre-School
END:VEVENT
BEGIN:VEVENT
DTSTART;TZID=Europe/London:20260519T190000
DTEND;TZID=Europe/London:20260519T200000
DTSTAMP:20260421T162419
CREATED:20250531T131232Z
LAST-MODIFIED:20250623T220620Z
UID:10005570-1779217200-1779220800@www.brixworthcentre.org.uk
SUMMARY:Tai-Chi
DESCRIPTION:
URL:https://www.brixworthcentre.org.uk/event/tai-chi-2/2026-05-19/
CATEGORIES:Tai Chi
END:VEVENT
END:VCALENDAR