BEGIN:VCALENDAR
VERSION:2.0
PRODID:-//The Brixworth Centre - ECPv6.15.20//NONSGML v1.0//EN
CALSCALE:GREGORIAN
METHOD:PUBLISH
X-WR-CALNAME:The Brixworth Centre
X-ORIGINAL-URL:https://www.brixworthcentre.org.uk
X-WR-CALDESC:Events for The Brixworth Centre
REFRESH-INTERVAL;VALUE=DURATION:PT1H
X-Robots-Tag:noindex
X-PUBLISHED-TTL:PT1H
BEGIN:VTIMEZONE
TZID:Europe/London
BEGIN:DAYLIGHT
TZOFFSETFROM:+0000
TZOFFSETTO:+0100
TZNAME:BST
DTSTART:20250330T010000
END:DAYLIGHT
BEGIN:STANDARD
TZOFFSETFROM:+0100
TZOFFSETTO:+0000
TZNAME:GMT
DTSTART:20251026T010000
END:STANDARD
BEGIN:DAYLIGHT
TZOFFSETFROM:+0000
TZOFFSETTO:+0100
TZNAME:BST
DTSTART:20260329T010000
END:DAYLIGHT
BEGIN:STANDARD
TZOFFSETFROM:+0100
TZOFFSETTO:+0000
TZNAME:GMT
DTSTART:20261025T010000
END:STANDARD
BEGIN:DAYLIGHT
TZOFFSETFROM:+0000
TZOFFSETTO:+0100
TZNAME:BST
DTSTART:20270328T010000
END:DAYLIGHT
BEGIN:STANDARD
TZOFFSETFROM:+0100
TZOFFSETTO:+0000
TZNAME:GMT
DTSTART:20271031T010000
END:STANDARD
END:VTIMEZONE
BEGIN:VEVENT
DTSTART;TZID=Europe/London:20260802T100000
DTEND;TZID=Europe/London:20260802T130000
DTSTAMP:20260421T210857
CREATED:20260119T115823Z
LAST-MODIFIED:20260119T115823Z
UID:10006134-1785664800-1785675600@www.brixworthcentre.org.uk
SUMMARY:Church
DESCRIPTION:
URL:https://www.brixworthcentre.org.uk/event/church-20/
END:VEVENT
BEGIN:VEVENT
DTSTART;TZID=Europe/London:20260809T100000
DTEND;TZID=Europe/London:20260809T130000
DTSTAMP:20260421T210857
CREATED:20260119T115917Z
LAST-MODIFIED:20260119T115917Z
UID:10006135-1786269600-1786280400@www.brixworthcentre.org.uk
SUMMARY:Church
DESCRIPTION:
URL:https://www.brixworthcentre.org.uk/event/church-21/
END:VEVENT
BEGIN:VEVENT
DTSTART;TZID=Europe/London:20260816T100000
DTEND;TZID=Europe/London:20260816T130000
DTSTAMP:20260421T210857
CREATED:20260119T120003Z
LAST-MODIFIED:20260119T120003Z
UID:10006136-1786874400-1786885200@www.brixworthcentre.org.uk
SUMMARY:Church
DESCRIPTION:
URL:https://www.brixworthcentre.org.uk/event/church-22/
END:VEVENT
BEGIN:VEVENT
DTSTART;TZID=Europe/London:20260823T100000
DTEND;TZID=Europe/London:20260823T130000
DTSTAMP:20260421T210857
CREATED:20260119T120119Z
LAST-MODIFIED:20260119T120119Z
UID:10006137-1787479200-1787490000@www.brixworthcentre.org.uk
SUMMARY:Church
DESCRIPTION:
URL:https://www.brixworthcentre.org.uk/event/church-23/
END:VEVENT
BEGIN:VEVENT
DTSTART;TZID=Europe/London:20260830T100000
DTEND;TZID=Europe/London:20260830T130000
DTSTAMP:20260421T210857
CREATED:20260119T120217Z
LAST-MODIFIED:20260119T120217Z
UID:10006138-1788084000-1788094800@www.brixworthcentre.org.uk
SUMMARY:Church
DESCRIPTION:
URL:https://www.brixworthcentre.org.uk/event/church-24/
END:VEVENT
END:VCALENDAR